BEGIN:VCALENDAR
VERSION:2.0
PRODID:-//                - ECPv6.15.20//NONSGML v1.0//EN
CALSCALE:GREGORIAN
METHOD:PUBLISH
X-ORIGINAL-URL:https://udsp91.com
X-WR-CALDESC:Évènements pour                
REFRESH-INTERVAL;VALUE=DURATION:PT1H
X-Robots-Tag:noindex
X-PUBLISHED-TTL:PT1H
BEGIN:VTIMEZONE
TZID:UTC
BEGIN:STANDARD
TZOFFSETFROM:+0000
TZOFFSETTO:+0000
TZNAME:UTC
DTSTART:20240101T000000
END:STANDARD
END:VTIMEZONE
BEGIN:VEVENT
DTSTART;TZID=UTC:20250906T173000
DTEND;TZID=UTC:20250906T233000
DTSTAMP:20260421T153723
CREATED:20250715T074927Z
LAST-MODIFIED:20250715T075203Z
UID:2088-1757179800-1757201400@udsp91.com
SUMMARY:1ère  Edition marche nocturne dinatoire organisée par l'amicale des Sapeurs-Pompiers de Lardy
DESCRIPTION:Affiche marche semi nocturne bouray 2025-1 \nMarche Nocturne Lardy 2025.ai
URL:https://udsp91.com/event/1ere-edition-marche-nocturne-dinatoire-organisee-par-lamicale-des-sapeurs-pompiers-de-lardy/
LOCATION:CHATEAU MESNIL VOYSIN\, ROUTE DE LARDY\, BOURAY SUR JUINE\, 91
ORGANIZER;CN="amicale de lardy":MAILTO:amicale-sp-lardy.fr
END:VEVENT
END:VCALENDAR