BEGIN:VCALENDAR
VERSION:2.0
PRODID:-//                - ECPv6.15.20//NONSGML v1.0//EN
CALSCALE:GREGORIAN
METHOD:PUBLISH
X-WR-CALNAME:               
X-ORIGINAL-URL:https://udsp91.com
X-WR-CALDESC:Évènements pour                
REFRESH-INTERVAL;VALUE=DURATION:PT1H
X-Robots-Tag:noindex
X-PUBLISHED-TTL:PT1H
BEGIN:VTIMEZONE
TZID:UTC
BEGIN:STANDARD
TZOFFSETFROM:+0000
TZOFFSETTO:+0000
TZNAME:UTC
DTSTART:20240101T000000
END:STANDARD
END:VTIMEZONE
BEGIN:VEVENT
DTSTART;TZID=UTC:20250914T100000
DTEND;TZID=UTC:20250914T180000
DTSTAMP:20260421T153343
CREATED:20250902T110040Z
LAST-MODIFIED:20250902T110040Z
UID:2139-1757844000-1757872800@udsp91.com
SUMMARY:PORTES OUVERTES CIS VAL D'YERRES
DESCRIPTION:
URL:https://udsp91.com/event/portes-ouvertes-cis-val-dyerres/
LOCATION:CENTRE DE SECOURS DU VAL D’YERRES\, 2 RUE DU 8 MAI 1945\, EPINAY SOUS SENART\, 91860
END:VEVENT
END:VCALENDAR