BEGIN:VCALENDAR
VERSION:2.0
PRODID:-//                - ECPv6.15.20//NONSGML v1.0//EN
CALSCALE:GREGORIAN
METHOD:PUBLISH
X-ORIGINAL-URL:https://udsp91.com
X-WR-CALDESC:Évènements pour                
REFRESH-INTERVAL;VALUE=DURATION:PT1H
X-Robots-Tag:noindex
X-PUBLISHED-TTL:PT1H
BEGIN:VTIMEZONE
TZID:UTC
BEGIN:STANDARD
TZOFFSETFROM:+0000
TZOFFSETTO:+0000
TZNAME:UTC
DTSTART:20240101T000000
END:STANDARD
END:VTIMEZONE
BEGIN:VEVENT
DTSTART;TZID=UTC:20250920T100000
DTEND;TZID=UTC:20250920T180000
DTSTAMP:20260423T104048
CREATED:20250721T155111Z
LAST-MODIFIED:20250721T155111Z
UID:2094-1758362400-1758391200@udsp91.com
SUMMARY:PORTES OUVERTES CIS CORBEIL ESSONNES- JOURNEES DU PATRIMOINE 2025
DESCRIPTION:Visite du Centre Départemental d’incendie et de secours 91\nsamedi 20 septembre 2025 – 10:00 ⤏ 18:00 \nInstallée dès 1813\, la Compagnie des Sapeurs-pompiers de Corbeil-Essonnes a conservé et organisé sa mémoire : véhicules\, vêtements\, ustensiles divers et archives abondantes sont présentés dans l’espace muséal du centre. \nJournées du Patrimoine 2025 au centre départemental d’incendie et de secours de Corbeil-Essonnes – Sortiraparis.com \n  \n 
URL:https://udsp91.com/event/portes-ouvertes-cis-corbeil-essonnes-journees-du-patrimoine-2025/
LOCATION:CENTRE DE SECOURS CORBEIL ESSONNES\, bd Henri Dunant\, CORBEIL ESSONNES
END:VEVENT
END:VCALENDAR