BEGIN:VCALENDAR
VERSION:2.0
PRODID:-//                - ECPv6.15.20//NONSGML v1.0//EN
CALSCALE:GREGORIAN
METHOD:PUBLISH
X-ORIGINAL-URL:https://udsp91.com
X-WR-CALDESC:Évènements pour                
REFRESH-INTERVAL;VALUE=DURATION:PT1H
X-Robots-Tag:noindex
X-PUBLISHED-TTL:PT1H
BEGIN:VTIMEZONE
TZID:UTC
BEGIN:STANDARD
TZOFFSETFROM:+0000
TZOFFSETTO:+0000
TZNAME:UTC
DTSTART:20240101T000000
END:STANDARD
END:VTIMEZONE
BEGIN:VEVENT
DTSTART;TZID=UTC:20250927T100000
DTEND;TZID=UTC:20250927T170000
DTSTAMP:20260423T102223
CREATED:20250819T131649Z
LAST-MODIFIED:20250819T132645Z
UID:2132-1758967200-1758992400@udsp91.com
SUMMARY:PORTES OUVERTES CIS DOURDAN
DESCRIPTION:Portes ouvertes à l’occasion des 20 ans du centre d’incendie et de secours de Dourdan.
URL:https://udsp91.com/event/portes-ouvertes-cis-dourdan/
LOCATION:9 rue Robert Benoist – 91410 Dourdan
END:VEVENT
END:VCALENDAR