BEGIN:VCALENDAR
VERSION:2.0
PRODID:-//                - ECPv6.15.20//NONSGML v1.0//EN
CALSCALE:GREGORIAN
METHOD:PUBLISH
X-ORIGINAL-URL:https://udsp91.com
X-WR-CALDESC:Évènements pour                
REFRESH-INTERVAL;VALUE=DURATION:PT1H
X-Robots-Tag:noindex
X-PUBLISHED-TTL:PT1H
BEGIN:VTIMEZONE
TZID:UTC
BEGIN:STANDARD
TZOFFSETFROM:+0000
TZOFFSETTO:+0000
TZNAME:UTC
DTSTART:20240101T000000
END:STANDARD
END:VTIMEZONE
BEGIN:VEVENT
DTSTART;TZID=UTC:20251129T103000
DTEND;TZID=UTC:20251129T120000
DTSTAMP:20260421T121616
CREATED:20251124T105326Z
LAST-MODIFIED:20251124T105326Z
UID:2357-1764412200-1764417600@udsp91.com
SUMMARY:PASSATION DE COMMANDEMENT DDSIS 91 - SAINTE BARBE DEPARTEMENTALE
DESCRIPTION:
URL:https://udsp91.com/event/passation-de-commandement-ddsis-91-sainte-barbe-departementale/
LOCATION:EDIS\, 11 avenue des peupliers\, FLEURY MEROGIS\, france\, 91700\, France
END:VEVENT
END:VCALENDAR