BEGIN:VCALENDAR
VERSION:2.0
PRODID:-//                - ECPv6.15.20//NONSGML v1.0//EN
CALSCALE:GREGORIAN
METHOD:PUBLISH
X-ORIGINAL-URL:https://udsp91.com
X-WR-CALDESC:Évènements pour                
REFRESH-INTERVAL;VALUE=DURATION:PT1H
X-Robots-Tag:noindex
X-PUBLISHED-TTL:PT1H
BEGIN:VTIMEZONE
TZID:UTC
BEGIN:STANDARD
TZOFFSETFROM:+0000
TZOFFSETTO:+0000
TZNAME:UTC
DTSTART:20250101T000000
END:STANDARD
END:VTIMEZONE
BEGIN:VEVENT
DTSTART;TZID=UTC:20260207T080000
DTEND;TZID=UTC:20260207T180000
DTSTAMP:20260419T154951
CREATED:20251002T160805Z
LAST-MODIFIED:20251212T163923Z
UID:2215-1770451200-1770487200@udsp91.com
SUMMARY:07.02.2026 - CROSS REGIONAL DES SAPEURS POMPIERS IDF - CENTRE VAL DE LOIRE
DESCRIPTION:Flyers régionalI \nLe 7 février 2026\, le SDIS 91 accueillera sur son territoire l’épreuve sportive du cross régional. \nCette manifestation rassemblera près de 800 personnes dont environ 500 athlètes\, issus des SDIS d’île de France et de la région Centre-val de Loire. \nProgramme à venir….
URL:https://udsp91.com/event/07-02-2026-cross-regional-des-sapeurs-pompiers-idf-centre-val-de-loire/
LOCATION:DOMAINE DE CHAMARANDE
END:VEVENT
END:VCALENDAR