BEGIN:VCALENDAR
VERSION:2.0
PRODID:-//                - ECPv6.15.20//NONSGML v1.0//EN
CALSCALE:GREGORIAN
METHOD:PUBLISH
X-WR-CALNAME:               
X-ORIGINAL-URL:https://udsp91.com
X-WR-CALDESC:Évènements pour                
REFRESH-INTERVAL;VALUE=DURATION:PT1H
X-Robots-Tag:noindex
X-PUBLISHED-TTL:PT1H
BEGIN:VTIMEZONE
TZID:UTC
BEGIN:STANDARD
TZOFFSETFROM:+0000
TZOFFSETTO:+0000
TZNAME:UTC
DTSTART:20250101T000000
END:STANDARD
END:VTIMEZONE
BEGIN:VEVENT
DTSTART;TZID=UTC:20260530T173000
DTEND;TZID=UTC:20260530T213000
DTSTAMP:20260420T084018
CREATED:20260328T163414Z
LAST-MODIFIED:20260328T163414Z
UID:2504-1780162200-1780176600@udsp91.com
SUMMARY:MARCHE SEMI NOCTURNE ET DINATOIRE LARDY
DESCRIPTION:Cette année à nouveau l’amicale des Sapeurs-Pompiers de Lardy organise en partenariat avec l’association Jeunesse Solidaire une «  Marche semi-nocturne dinatoire » qui aura lieu le Samedi 30 Mai 2026 à partir de 17h30. \nIl s’agit d’un parcours de 11\,7 km (D+130) divisé en 5 étapes sur les communes de Bouray sur Juine et Janville sur Juine ( affiche de l’évènement et du plan du parcours ci-joint). \nLes inscriptions se font exclusivement sur le site internet dédié ( renseignements sur l’affiche et avec le QR code) et ce jusqu’au 15 Mai 2026 date de la clôture des inscriptions\, aucune inscriptions sur place. \nPour cette  2 ème  édition participation limitée à 250 participants. \nL’objectif de cet évènement étant de rassembler et de fédérer\, \nrenseignements : 06.71.57.29.87 de 17h à 19h30 le mardi et jeudi \nAffiche marche semi nocturne bouray  \n2026 Marche Nocturne Lardy 2026
URL:https://udsp91.com/event/marche-semi-nocturne-et-dinatoire-lardy/
LOCATION:CHATEAU MESNIL VOYSIN\, ROUTE DE LARDY\, BOURAY SUR JUINE\, 91
ORGANIZER;CN="amicale de lardy":MAILTO:amicale-sp-lardy.fr
END:VEVENT
BEGIN:VEVENT
DTSTART;TZID=UTC:20260613T100000
DTEND;TZID=UTC:20260613T180000
DTSTAMP:20260420T084018
CREATED:20260407T131143Z
LAST-MODIFIED:20260407T131143Z
UID:2509-1781344800-1781373600@udsp91.com
SUMMARY:PORTES OUVERTES CENTRE DE SECOURS ARPAJON
DESCRIPTION:La journée a pour objectifs de proposer des mises en activités pour le public (Gestes qui sauvent\, Manipulation d’extincteurs\,…) de présenter les véhicules et de réaliser des démonstrations. \nNos partenaires opérationnels seront également présents. (Polices Nationale et Municipale\, SAMU\, Enedis\, Grdf\,…)
URL:https://udsp91.com/event/portes-ouvertes-centre-de-secours-arpajon/
LOCATION:CENTRE DE SECOURS ARPAJON – 117 AVENUE DE VERDUN\, CENTRE DE SECOURS - 117 AVENUE DE VERDUN\, ARPAJON\, 91
END:VEVENT
END:VCALENDAR