BEGIN:VCALENDAR
VERSION:2.0
PRODID:-//                - ECPv6.15.20//NONSGML v1.0//EN
CALSCALE:GREGORIAN
METHOD:PUBLISH
X-ORIGINAL-URL:https://udsp91.com
X-WR-CALDESC:Évènements pour                
REFRESH-INTERVAL;VALUE=DURATION:PT1H
X-Robots-Tag:noindex
X-PUBLISHED-TTL:PT1H
BEGIN:VTIMEZONE
TZID:UTC
BEGIN:STANDARD
TZOFFSETFROM:+0000
TZOFFSETTO:+0000
TZNAME:UTC
DTSTART:20240101T000000
END:STANDARD
END:VTIMEZONE
BEGIN:VEVENT
DTSTART;TZID=UTC:20250615T000000
DTEND;TZID=UTC:20250615T235959
DTSTAMP:20260423T090630
CREATED:20250602T161926Z
LAST-MODIFIED:20250602T162124Z
UID:725-1749945600-1750031999@udsp91.com
SUMMARY:Porte ouverte au centre de secours de Savigny-Morangis
DESCRIPTION:
URL:https://udsp91.com/event/porte-ouverte-au-centre-de-secours-de-savigny-morangis/
LOCATION:centre de secours BALLANCOURT\, Rue de l'Aunette\, 91610 Ballancourt-sur-Essonne\, BALLANCOURT\, France
END:VEVENT
BEGIN:VEVENT
DTSTART;TZID=UTC:20250621T100000
DTEND;TZID=UTC:20250621T190000
DTSTAMP:20260423T090631
CREATED:20250619T145224Z
LAST-MODIFIED:20250619T145224Z
UID:1918-1750500000-1750532400@udsp91.com
SUMMARY:Rallye du Cœur
DESCRIPTION:Le Rallye du Cœur est une opération qui réunit passionnés d’automobiles\, enfants atteints de cancer et leurs familles\, ainsi que le grand public.
URL:https://udsp91.com/event/rallye-du-coeur/
LOCATION:Château de Saint Jean de Beauregard\, Rue du Château\, Saint-Jean-de-Beauregard\, 91940\, France
END:VEVENT
END:VCALENDAR