BEGIN:VCALENDAR
VERSION:2.0
PRODID:-//                - ECPv6.15.20//NONSGML v1.0//EN
CALSCALE:GREGORIAN
METHOD:PUBLISH
X-ORIGINAL-URL:https://udsp91.com
X-WR-CALDESC:Évènements pour                
REFRESH-INTERVAL;VALUE=DURATION:PT1H
X-Robots-Tag:noindex
X-PUBLISHED-TTL:PT1H
BEGIN:VTIMEZONE
TZID:UTC
BEGIN:STANDARD
TZOFFSETFROM:+0000
TZOFFSETTO:+0000
TZNAME:UTC
DTSTART:20250101T000000
END:STANDARD
END:VTIMEZONE
BEGIN:VEVENT
DTSTART;TZID=UTC:20260111T093000
DTEND;TZID=UTC:20260111T170000
DTSTAMP:20260419T154923
CREATED:20251212T164455Z
LAST-MODIFIED:20251212T164455Z
UID:2468-1768123800-1768150800@udsp91.com
SUMMARY:TOURNOI BADMINTON SAPEURS POMPIERS
DESCRIPTION:
URL:https://udsp91.com/event/tournoi-badminton-sapeurs-pompiers/
LOCATION:COMPLEXE SPORTIF SEGALARD 91590 CERNY
END:VEVENT
BEGIN:VEVENT
DTSTART;TZID=UTC:20260118T080000
DTEND;TZID=UTC:20260118T120000
DTSTAMP:20260419T154923
CREATED:20251124T110226Z
LAST-MODIFIED:20251124T110242Z
UID:2365-1768723200-1768737600@udsp91.com
SUMMARY:CROSS DEPARTEMENTAL GRPT CENTRE
DESCRIPTION:
URL:https://udsp91.com/event/cross-departemental-grpt-centre/
LOCATION:DOMAINE DE SOUCY-FONTENAY LES BRIIS\, 2 RUE DU MONT LOUVET\, FONTENAY LES BRIIS\, 91
END:VEVENT
END:VCALENDAR