BEGIN:VCALENDAR
VERSION:2.0
PRODID:-//                - ECPv6.15.20//NONSGML v1.0//EN
CALSCALE:GREGORIAN
METHOD:PUBLISH
X-ORIGINAL-URL:https://udsp91.com
X-WR-CALDESC:Évènements pour                
REFRESH-INTERVAL;VALUE=DURATION:PT1H
X-Robots-Tag:noindex
X-PUBLISHED-TTL:PT1H
BEGIN:VTIMEZONE
TZID:UTC
BEGIN:STANDARD
TZOFFSETFROM:+0000
TZOFFSETTO:+0000
TZNAME:UTC
DTSTART:20250101T000000
END:STANDARD
END:VTIMEZONE
BEGIN:VEVENT
DTSTART;TZID=UTC:20260308T120000
DTEND;TZID=UTC:20260308T170000
DTSTAMP:20260419T123110
CREATED:20251212T165242Z
LAST-MODIFIED:20251212T165242Z
UID:2473-1772971200-1772989200@udsp91.com
SUMMARY:REPAS DES ANCIENS
DESCRIPTION:A vos agendas\, le traditionnel repas des Anciens se tiendra le Dimanche 08.03.2026 à Cerny. \nD’autres informations pour les inscriptions à venir !!!!!
URL:https://udsp91.com/event/repas-des-anciens/
LOCATION:CERNY
END:VEVENT
END:VCALENDAR